BEGIN:VCALENDAR
VERSION:2.0
PRODID:gruene-allershausen.de
METHOD:PUBLISH
BEGIN:VTIMEZONE
TZID:Europe/Berlin
X-LIC-LOCATION:Europe/Berlin
BEGIN:DAYLIGHT
TZOFFSETFROM:+0100
TZOFFSETTO:+0200
TZNAME:CEST
DTSTART:19700329T020000
RRULE:FREQ=YEARLY;INTERVAL=1;BYDAY=-1SU;BYMONTH=3
END:DAYLIGHT
BEGIN:STANDARD
TZOFFSETFROM:+0200
TZOFFSETTO:+0100
TZNAME:CET
DTSTART:19701025T030000
RRULE:FREQ=YEARLY;INTERVAL=1;BYDAY=-1SU;BYMONTH=10
END:STANDARD
END:VTIMEZONE
BEGIN:VEVENT
UID:528f43971a08420094b2c5edccd3ee7e@gruene-allershausen.de
URL;VALUE=URI:https://gruene-allershausen.de/termine/stammtisch-ovs-westl
 icher-landkreis/
LOCATION:Sportgaststätte Hohenkammer, Pfarrer-Egger-Str. 17, 85411 Hohen
 kammer
SUMMARY:Stammtisch OV’s westlicher Landkreis
DESCRIPTION;ALTREP="data:text/html,%3Cp%20class%3D%22cvGsUA%20direction-l
 tr%20align-center%20para-style-body%22%3E%3Cspan%20class%3D%22a_GcMg%20fo
 nt-feature-liga-off%20font-feature-clig-off%20font-feature-calt-off%20tex
 t-decoration-none%20text-strikethrough-none%22%3EDie%20Gr%C3%BCnen%20Orts
 verb%C3%A4nde%20%3C%2Fspan%3E%3Cspan%20class%3D%22a_GcMg%20font-feature-l
 iga-off%20font-feature-clig-off%20font-feature-calt-off%20text-decoration
 -none%20text-strikethrough-none%22%3EAllershausen%2C%20Fahrenzhausen%2C%2
 0Kirchdorf%2C%20Kranzberg%20und%20Paunzhausen%20%3C%2Fspan%3E%3Cspan%20cl
 ass%3D%22a_GcMg%20font-feature-liga-off%20font-feature-clig-off%20font-fe
 ature-calt-off%20text-decoration-none%20text-strikethrough-none%22%3Elade
 n%20zum%20gemeinsamen%20Stammtisch%20in%20Hohenkammer%20ein.%20%3C%2Fspan
 %3E%3C%2Fp%3E%0D%0A%3Cp%20class%3D%22cvGsUA%20direction-ltr%20align-cente
 r%20para-style-body%22%3E%3Cspan%20class%3D%22a_GcMg%20font-feature-liga-
 off%20font-feature-clig-off%20font-feature-calt-off%20text-decoration-non
 e%20text-strikethrough-none%22%3EKommt%20vorbei%21%3C%2Fspan%3E%3C%2Fp%3E
 %0D%0A%0D%0A%3Cdiv%3EWann%3A%20Mittwoch%2C%206.%20Mai%202026%20ab%2019%3A
 00%20Uhr%3C%2Fdiv%3E%0D%0A%3Cdiv%3EWo%3A%20Sportgastst%C3%A4tte%20Hohenka
 mmer%2C%20Pfarrer-Egger-Str.%2017%2C%2085411%20Hohenkammer%3C%2Fdiv%3E":D
 ie Grünen Ortsverbände Allershausen\, Fahrenzhausen\, Kirchdorf\, Kranz
 berg und Paunzhausen laden zum gemeinsamen Stammtisch in Hohenkammer ein.
 \n\nKommt vorbei!\n\nWann: Mittwoch\, 6. Mai 2026 ab 19:00 Uhr\n\nWo: Spo
 rtgaststätte Hohenkammer\, Pfarrer-Egger-Str. 17\, 85411 Hohenkammer
CLASS:PUBLIC
DTSTART;TZID=Europe/Berlin:20260506T190000
DTEND;TZID=Europe/Berlin:20260506T200000
DTSTAMP:20260424T145157
END:VEVENT
END:VCALENDAR