BEGIN:VCALENDAR
VERSION:2.0
PRODID:gruene-allershausen.de
METHOD:PUBLISH
BEGIN:VTIMEZONE
TZID:Europe/Berlin
X-LIC-LOCATION:Europe/Berlin
BEGIN:DAYLIGHT
TZOFFSETFROM:+0100
TZOFFSETTO:+0200
TZNAME:CEST
DTSTART:19700329T020000
RRULE:FREQ=YEARLY;INTERVAL=1;BYDAY=-1SU;BYMONTH=3
END:DAYLIGHT
BEGIN:STANDARD
TZOFFSETFROM:+0200
TZOFFSETTO:+0100
TZNAME:CET
DTSTART:19701025T030000
RRULE:FREQ=YEARLY;INTERVAL=1;BYDAY=-1SU;BYMONTH=10
END:STANDARD
END:VTIMEZONE
BEGIN:VEVENT
UID:2cbd1142179a6b9017cb70e61d1eaa8c@gruene-allershausen.de
URL;VALUE=URI:https://gruene-allershausen.de/termine/mahnwache-fuer-fried
 en-in-der-ukraine/
LOCATION:Marienplatz Freising, Marienplatz, 85354 Freising
SUMMARY:Mahnwache für Frieden in der Ukraine
DESCRIPTION;ALTREP="data:text/html,%0D%0A%3Cp%3EDie%20Situation%20in%20de
 r%20Ukraine%20ist%20eskaliert.%20Am%20Sonntag%2C%20den%2027.%20Februar%20
 findet%20am%20Freisinger%20Marienplatz%20ab%2018%20Uhr%20eine%20Mahnwache
 %20f%C3%BCr%20Frieden%20in%20der%20Ukraine%20statt.%3C%2Fp%3E%0D%0A%0D%0A
 %0D%0A%0D%0A%3Cp%3EVor%20wenigen%20Tagen%20noch%20bestand%20Hoffnung%2C%2
 0dass%20sich%20die%20Situation%20in%20der%20Ukraine%20entsch%C3%A4rft.%20
 Doch%20gestern%20kam%20die%20Eskalation.%20Russland%20hat%20die%20Ukraine
 %20angegriffen.%20Mit%20dem%20Einmarsch%20in%20die%20Ukraine%20hat%20Russ
 land%20V%C3%B6lkerrecht%20gebrochen.%20Es%20ist%20Krieg%20in%20Europa.%20
 Wir%20m%C3%BCssen%20klare%20Zeichen%20der%20Solidarit%C3%A4t%20mit%20den%
 20Menschen%20in%20der%20Ukraine%20setzten%21%3C%2Fp%3E%0D%0A%0D%0A%0D%0A%
 0D%0A%3Cp%3EDie%20Veranstaltung%20wird%20organisiert%20von%20MdL%20Johann
 es%20Becher.%20An%20der%20Mahnwache%20wird%20u.A.%20der%20Freisinger%20Ob
 erb%C3%BCrgermeister%20Tobias%20Eschenbacher%20teilnehmen.%20Vertreter%2A
 innen%20der%20demokratischen%20Parteien%20wurden%20f%C3%BCr%20Redebeitr%C
 3%A4ge%20angefragt.%3C%2Fp%3E%0D%0A%0D%0A%0D%0A%0D%0A%3Cp%3EF%C3%BCr%20di
 e%20musikalische%20Umrahmung%20sorgt%20die%20Stadtkapelle%20um%20Odilo%20
 Zapf.%20Seit%2075%20Jahren%20ist%20in%20Europa%20der%20Frieden%20zum%20er
 sten%20Mal%20nicht%20nur%20in%20Gefahr%2C%20sondern%20durch%20den%20V%C3%
 B6lkerrechtsbruch%20Russlands%20gebrochen.%20Wir%20wollen%20ein%20friedli
 ches%20Europa%21%3C%2Fp%3E%0D%0A%0D%0A%0D%0A%0D%0A%3Cp%3EEs%20gelten%20Ma
 skenpflicht%20und%20die%20aktuellen%20Abstands-%20und%20Hygieneregeln.%3C
 %2Fp%3E%0D%0A":Die Situation in der Ukraine ist eskaliert. Am Sonntag\, d
 en 27. Februar findet am Freisinger Marienplatz ab 18 Uhr eine Mahnwache 
 für Frieden in der Ukraine statt.\n\nVor wenigen Tagen noch bestand Hoff
 nung\, dass sich die Situation in der Ukraine entschärft. Doch gestern k
 am die Eskalation. Russland hat die Ukraine angegriffen. Mit dem Einmarsc
 h in die Ukraine hat Russland Völkerrecht gebrochen. Es ist Krieg in Eur
 opa. Wir müssen klare Zeichen der Solidarität mit den Menschen in der U
 kraine setzten!\n\nDie Veranstaltung wird organisiert von MdL Johannes Be
 cher. An der Mahnwache wird u.A. der Freisinger Oberbürgermeister Tobias
  Eschenbacher teilnehmen. Vertreter*innen der demokratischen Parteien wur
 den für Redebeiträge angefragt.\n\nFür die musikalische Umrahmung sorg
 t die Stadtkapelle um Odilo Zapf. Seit 75 Jahren ist in Europa der Friede
 n zum ersten Mal nicht nur in Gefahr\, sondern durch den Völkerrechtsbru
 ch Russlands gebrochen. Wir wollen ein friedliches Europa!\n\nEs gelten M
 askenpflicht und die aktuellen Abstands- und Hygieneregeln.
CLASS:PUBLIC
DTSTART;TZID=Europe/Berlin:20220227T180000
DTEND;TZID=Europe/Berlin:20220227T190000
DTSTAMP:20260419T114654
END:VEVENT
END:VCALENDAR