BEGIN:VCALENDAR
VERSION:2.0
PRODID:gruene-allershausen.de
METHOD:PUBLISH
BEGIN:VTIMEZONE
TZID:Europe/Berlin
X-LIC-LOCATION:Europe/Berlin
BEGIN:DAYLIGHT
TZOFFSETFROM:+0100
TZOFFSETTO:+0200
TZNAME:CEST
DTSTART:19700329T020000
RRULE:FREQ=YEARLY;INTERVAL=1;BYDAY=-1SU;BYMONTH=3
END:DAYLIGHT
BEGIN:STANDARD
TZOFFSETFROM:+0200
TZOFFSETTO:+0100
TZNAME:CET
DTSTART:19701025T030000
RRULE:FREQ=YEARLY;INTERVAL=1;BYDAY=-1SU;BYMONTH=10
END:STANDARD
END:VTIMEZONE
BEGIN:VEVENT
UID:99fd4b949de419417d968a3337d1522c@gruene-allershausen.de
URL;VALUE=URI:https://gruene-allershausen.de/termine/allershausen-wir-rae
 umen-auf-6/
LOCATION:Müll Sammeln, Glonnterrassen & Glonnfeld Park, 85391 Allershaus
 en
SUMMARY:Allershausen – Wir räumen auf!
DESCRIPTION;ALTREP="data:text/html,%3Cstrong%3EWir%20r%C3%A4umen%20auf%3C
 %2Fstrong%3E%0D%0A%0D%0AJeden%20zweiten%20Freitag%20im%20Monat%20wird%20i
 n%20verschiedenen%20Ortsteilen%20in%20Allershausen%20von%2015%20bis%2016%
 20Uhr%20M%C3%BCll%20gesammelt.%20Eingeladen%20zum%20Mitsammeln%20sind%20a
 lle%2C%20ob%20Gro%C3%9F%20oder%20Klein.%20Die%20Eimer%20zum%20Sammeln%20d
 es%20Abfalls%20werden%20gestellt%2C%20Handschuhe%20bitte%20selbst%20mitbr
 ingen.%0D%0A%0D%0AAlle%2C%20die%20etwas%20f%C3%BCr%20eine%20saubere%20Nat
 ur%20tun%20wollen%20sind%20gerne%20eingeladen%20mitzumachen.%20Die%20jewe
 iligen%20Treffpunkte%20werden%20rechtzeitig%20in%20der%20Zeitung%20und%20
 auf%20der%20Webseite%20des%20OV%20Allershausen%20bekannt%20gegeben.%0D%0A
 %0D%0ADie%20Hoffnung%20ist%2C%20dass%20diese%20Aktionen%20auch%20diejenig
 en%20f%C3%BCr%20die%20Wichtigkeit%20einer%20sauberen%20Natur%20sensibilis
 ieren%2C%20die%20aktuell%20lieber%20Ihren%20M%C3%BCll%20an%20Ort%20und%20
 Stelle%20fallen%20lassen.%0D%0A%0D%0ATreffpunkt%20Gruppe%201%3A%20B%C3%BC
 cherzelle%20an%20den%20Glonnterrassen%2C%2015%20Uhr%0D%0A%0D%0ATreffpunkt
 %20Gruppe%202%3A%20Glonnfeldpark%20Spielplatz%2C%2015%20Uhr":Wir räumen 
 auf\n\nJeden zweiten Freitag im Monat wird in verschiedenen Ortsteilen in
  Allershausen von 15 bis 16 Uhr Müll gesammelt. Eingeladen zum Mitsammel
 n sind alle\, ob Groß oder Klein. Die Eimer zum Sammeln des Abfalls werd
 en gestellt\, Handschuhe bitte selbst mitbringen.\n\nAlle\, die etwas fü
 r eine saubere Natur tun wollen sind gerne eingeladen mitzumachen. Die je
 weiligen Treffpunkte werden rechtzeitig in der Zeitung und auf der Websei
 te des OV Allershausen bekannt gegeben.\n\nDie Hoffnung ist\, dass diese 
 Aktionen auch diejenigen für die Wichtigkeit einer sauberen Natur sensib
 ilisieren\, die aktuell lieber Ihren Müll an Ort und Stelle fallen lasse
 n.\n\nTreffpunkt Gruppe 1: Bücherzelle an den Glonnterrassen\, 15 Uhr\n\
 nTreffpunkt Gruppe 2: Glonnfeldpark Spielplatz\, 15 Uhr
CLASS:PUBLIC
DTSTART;TZID=Europe/Berlin:20240913T150000
DTEND;TZID=Europe/Berlin:20240913T160000
DTSTAMP:20260419T151941
END:VEVENT
END:VCALENDAR